BEGIN:VCALENDAR
VERSION:2.0
PRODID:-//OpenVan.camp//Calendar//EN
CALSCALE:GREGORIAN
METHOD:PUBLISH
BEGIN:VEVENT
UID:salone-del-camper-2026@coffee.bez.coffee
DTSTAMP:20260424T053512Z
DTSTART;VALUE=DATE:20260912
DTEND;VALUE=DATE:20260921
SUMMARY:Салон кемперов - Караваны\, аксессуары\, маршруты и направления
DESCRIPTION:С 12 по 20 сентября 2026 года в Парме возвращается 17-я выставка Salone del Camper - Caravan Accessori Percorsi e Mete. Это ключевое мероприятие для туризма на открытом воздухе и кемпер-образа жизни\, организованное в сотрудничестве с APC - Ассоциацией производителей караванов и кемперов.
LOCATION:Ярмарка Пармы\, Парма\, IT
GEO:44.8466462;10.2903178
STATUS:CONFIRMED
CATEGORIES:Exhibition,RV,Camping
END:VEVENT
END:VCALENDAR
