BEGIN:VCALENDAR
VERSION:2.0
PRODID:-//OpenVan.camp//Calendar//EN
CALSCALE:GREGORIAN
METHOD:PUBLISH
BEGIN:VEVENT
UID:salon-atlantico-del-caravaning-2026@coffee.bez.coffee
DTSTAMP:20260423T210039Z
DTSTART;VALUE=DATE:20260528
DTEND;VALUE=DATE:20260601
SUMMARY:Атлантический салон караванинга 2026
DESCRIPTION:Salón Atlántico del Caravaning - это выставка караванов и автодомов\, проводимая в IFEVI в Виго\, Галисия. Четырехдневное мероприятие представляет автодома\, кемперы\, караваны\, аксессуары и кемпинговое оборудование для любителей активного отдыха на северо-западе Испании и Португалии.
LOCATION:IFEVI — Институт выставочной деятельности Виго\, Виго\, ES
GEO:42.233652;-8.6478665
URL:https://www.caravaningatlantico.es/
STATUS:CONFIRMED
CATEGORIES:Exhibition,RV,Camping
END:VEVENT
END:VCALENDAR
