BEGIN:VCALENDAR
VERSION:2.0
PRODID:-//OpenVan.camp//Calendar//EN
CALSCALE:GREGORIAN
METHOD:PUBLISH
BEGIN:VEVENT
UID:overland-expo-east-2026@coffee.bez.coffee
DTSTAMP:20260424T031812Z
DTSTART;VALUE=DATE:20261023
DTEND;VALUE=DATE:20261026
SUMMARY:Overland Expo East 2026
DESCRIPTION:Overland Expo East — это мероприятие\, посвящённое оверленд-путешествиям и приключенческим транспортным средствам\, которое проходит в поместье Oak Ridge Estate в Аррингтоне\, штат Вирджиния. Трёхдневное мероприятие включает выставки\, образовательные форумы\, беседы у костра и демонстрации приключенческих транспортных средств.
LOCATION:Oak Ridge Estate\, Аррингтон\, US
GEO:37.6840306;-78.9011326
URL:https://www.overlandexpo.com/east/
STATUS:CONFIRMED
CATEGORIES:Exhibition,RV,Camping
END:VEVENT
END:VCALENDAR
