BEGIN:VCALENDAR
VERSION:2.0
PRODID:-//OpenVan.camp//Calendar//EN
CALSCALE:GREGORIAN
METHOD:PUBLISH
BEGIN:VEVENT
UID:overland-expo-mountain-west-2026@coffee.bez.coffee
DTSTAMP:20260424T001050Z
DTSTART;VALUE=DATE:20260821
DTEND;VALUE=DATE:20260824
SUMMARY:Overland Expo Mountain West 2026
DESCRIPTION:Overland Expo Mountain West — это мероприятие\, посвящённое оверленд-путешествиям и приключенческим транспортным средствам\, которое проходит в The Ranch Event Complex в Лавленде\, штат Колорадо. Трёхдневное мероприятие включает выставки\, образовательные программы и демонстрации приключенческих транспортных средств.
LOCATION:The Ranch Event Complex\, Лавленд\, US
GEO:40.4426066;-104.9870168
URL:https://www.overlandexpo.com/mountain-west/
STATUS:CONFIRMED
CATEGORIES:Exhibition,RV,Camping
END:VEVENT
END:VCALENDAR
