BEGIN:VCALENDAR
VERSION:2.0
PRODID:-//OpenVan.camp//Calendar//EN
CALSCALE:GREGORIAN
METHOD:PUBLISH
BEGIN:VEVENT
UID:overland-expo-pnw-2026@coffee.bez.coffee
DTSTAMP:20260424T031912Z
DTSTART;VALUE=DATE:20260626
DTEND;VALUE=DATE:20260629
SUMMARY:Overland Expo PNW 2026
DESCRIPTION:Overland Expo PNW (Pacific Northwest) — это мероприятие\, посвящённое оверленд-путешествиям и приключенческим транспортным средствам\, которое проводится в Редмонде\, штат Орегон. В рамках уик-энда представлены экспоненты\, образовательные форумы и демонстрации приключенческих автомобилей для любителей активного отдыха на природе.
LOCATION:Выставочный центр округа Дешутс\, Redmond\, US
GEO:44.236747;-121.1842508
URL:https://www.overlandexpo.com/pacific-northwest/
STATUS:CONFIRMED
CATEGORIES:Exhibition,RV,Camping
END:VEVENT
END:VCALENDAR
