BEGIN:VCALENDAR
VERSION:2.0
PRODID:-//OpenVan.camp//Calendar//EN
CALSCALE:GREGORIAN
METHOD:PUBLISH
BEGIN:VEVENT
UID:overland-expo-west-2026@coffee.bez.coffee
DTSTAMP:20260424T001050Z
DTSTART;VALUE=DATE:20260515
DTEND;VALUE=DATE:20260518
SUMMARY:Overland Expo West 2026
DESCRIPTION:Overland Expo West — это крупнейшее в Северной Америке мероприятие\, посвящённое оверленд-путешествиям и приключенческим транспортным средствам\, которое проводится в парке Fort Tuthill County Park в Флагстаффе\, Аризона. Трёхдневное мероприятие включает тысячи экспонатов\, образовательные форумы и демонстрации приключенческих транспортных средств.
LOCATION:Форт Татхилл Каунти Парк\, Флагстафф\, US
GEO:35.1446567;-111.6908974
URL:https://www.overlandexpo.com/west/
STATUS:CONFIRMED
CATEGORIES:Exhibition,RV,Camping
END:VEVENT
END:VCALENDAR
