BEGIN:VCALENDAR
VERSION:2.0
PRODID:-//OpenVan.camp//Calendar//EN
CALSCALE:GREGORIAN
METHOD:PUBLISH
BEGIN:VEVENT
UID:caravan-salon-austria-2026@coffee.bez.coffee
DTSTAMP:20260424T044540Z
DTSTART;VALUE=DATE:20261014
DTEND;VALUE=DATE:20261019
SUMMARY:Caravan Salon Austria 2026
DESCRIPTION:Caravan Salon Austria — это главная выставка караванов и автодомов в Австрии\, которая проводится в Messe Wels. Это пятидневное мероприятие является крупнейшим собранием энтузиастов кемперов и караванов в Австрии\, на котором представлены сотни экспонентов.
LOCATION:Messe Wels\, Вельс\, AT
GEO:48.1520079;14.0182489
URL:https://www.caravan-salon-austria.at
STATUS:CONFIRMED
CATEGORIES:Exhibition,RV,Camping
END:VEVENT
END:VCALENDAR
