BEGIN:VCALENDAR
VERSION:2.0
PRODID:-//OpenVan.camp//Calendar//EN
CALSCALE:GREGORIAN
METHOD:PUBLISH
BEGIN:VEVENT
UID:adventure-allrad-austria-2026@coffee.bez.coffee
DTSTAMP:20260424T031552Z
DTSTART;VALUE=DATE:20260619
DTEND;VALUE=DATE:20260622
SUMMARY:Adventure Allrad Austria 2026
DESCRIPTION:Adventure Allrad Austria — это выставка внедорожников и приключений на бездорожье в Messe Tulln\, недалеко от Вены. Трехдневное мероприятие демонстрирует внедорожники\, кемперы\, автодома и снаряжение для приключений на природе.
LOCATION:Messe Tulln\, Тульн-на-Дунае\, AT
GEO:48.3259142;16.0318912
URL:https://www.messe-tulln.at
STATUS:CONFIRMED
CATEGORIES:Exhibition,RV,Camping
END:VEVENT
END:VCALENDAR
