BEGIN:VCALENDAR
VERSION:2.0
PRODID:-//OpenVan.camp//Calendar//EN
CALSCALE:GREGORIAN
METHOD:PUBLISH
BEGIN:VEVENT
UID:tc-touristik-caravaning-leipzig-2026@coffee.bez.coffee
DTSTAMP:20260424T031913Z
DTSTART;VALUE=DATE:20261118
DTEND;VALUE=DATE:20261123
SUMMARY:Туризм и караванинг Лейпциг 2026
DESCRIPTION:TC: Touristik & Caravaning Leipzig — одна из крупнейших в Европе выставок караванов и автодомов в помещении\, проводимая на Messe Leipzig. Пятидневное мероприятие привлекает десятки тысяч посетителей и включает сотни экспонентов.
LOCATION:Messe Leipzig\, Лейпциг\, DE
GEO:51.3963509;12.3964556
URL:https://www.messe-stuttgart.de/tc/en/
STATUS:CONFIRMED
CATEGORIES:Exhibition,RV,Camping
END:VEVENT
END:VCALENDAR
