BEGIN:VCALENDAR
VERSION:2.0
PRODID:-//OpenVan.camp//Calendar//EN
CALSCALE:GREGORIAN
METHOD:PUBLISH
BEGIN:VEVENT
UID:caravan-bremen-2026@coffee.bez.coffee
DTSTAMP:20260424T031553Z
DTSTART;VALUE=DATE:20261106
DTEND;VALUE=DATE:20261109
SUMMARY:CARAVAN Бремен 2026
DESCRIPTION:CARAVAN Bremen — это выставка караванов и автодомов в помещении на Messe Bremen. Трехдневное мероприятие представляет последние модели кемперов\, караванов\, автодомов и аксессуаров для активного отдыха.
LOCATION:Messe Bremen\, Бремен\, DE
GEO:53.0889447;8.8116907
URL:https://www.messe-bremen.de
STATUS:CONFIRMED
CATEGORIES:Exhibition,RV,Camping
END:VEVENT
END:VCALENDAR
