BEGIN:VCALENDAR
VERSION:2.0
PRODID:-//OpenVan.camp//Calendar//EN
CALSCALE:GREGORIAN
METHOD:PUBLISH
BEGIN:VEVENT
UID:reisen-caravan-erfurt-2026@coffee.bez.coffee
DTSTAMP:20260424T031552Z
DTSTART;VALUE=DATE:20261029
DTEND;VALUE=DATE:20261102
SUMMARY:Путешествия и караванинг Эрфурт 2026
DESCRIPTION:Reisen & Caravan Erfurt — это ярмарка путешествий и караванинга на Messe Erfurt в центральной Германии\, представляющая кемперы\, караваны\, туристические направления и товары для активного отдыха на природе.
LOCATION:Messe Erfurt\, Эрфурт\, DE
GEO:50.9593198;10.9896749
URL:https://www.messe-erfurt.de
STATUS:CONFIRMED
CATEGORIES:Exhibition,RV,Camping
END:VEVENT
END:VCALENDAR
