BEGIN:VCALENDAR
VERSION:2.0
PRODID:-//OpenVan.camp//Calendar//EN
CALSCALE:GREGORIAN
METHOD:PUBLISH
BEGIN:VEVENT
UID:caravan-live-freiburg-2026@coffee.bez.coffee
DTSTAMP:20260424T031915Z
DTSTART;VALUE=DATE:20261001
DTEND;VALUE=DATE:20261005
SUMMARY:caravan live Фрайбург 2026
DESCRIPTION:caravan live Freiburg — это региональная выставка караванов и автодомов\, проводимая на Messe Freiburg в юго-западной Германии\, представляющая последние модели кемперов\, караванов и товаров для активного отдыха на природе.
LOCATION:Messe Freiburg\, Фрайбург-им-Брайсгау\, DE
GEO:48.0153735;7.8398669
URL:https://www.messe-freiburg.de
STATUS:CONFIRMED
CATEGORIES:Exhibition,RV,Camping
END:VEVENT
END:VCALENDAR
