BEGIN:VCALENDAR
VERSION:2.0
PRODID:-//OpenVan.camp//Calendar//EN
CALSCALE:GREGORIAN
METHOD:PUBLISH
BEGIN:VEVENT
UID:caravan-und-co-rendsburg-2026@coffee.bez.coffee
DTSTAMP:20260424T031914Z
DTSTART;VALUE=DATE:20260924
DTEND;VALUE=DATE:20260928
SUMMARY:CARAVAN und CO Рендсбург 2026
DESCRIPTION:CARAVAN und CO Rendsburg — это региональная выставка караванов и автодомов на севере Германии. Четырёхдневное мероприятие на открытом воздухе представляет широкий ассортимент кемперов\, караванов\, аксессуаров и сопутствующих товаров.
LOCATION:Выставочная площадка Рендсбург\, Рендсбург\, DE
GEO:54.2865891;9.6686392
URL:https://www.caravan-und-co.de
STATUS:CONFIRMED
CATEGORIES:Exhibition,RV,Camping
END:VEVENT
END:VCALENDAR
