BEGIN:VCALENDAR
VERSION:2.0
PRODID:-//OpenVan.camp//Calendar//EN
CALSCALE:GREGORIAN
METHOD:PUBLISH
BEGIN:VEVENT
UID:camper-jam-2026@coffee.bez.coffee
DTSTAMP:20260424T001050Z
DTSTART;VALUE=DATE:20260703
DTEND;VALUE=DATE:20260706
SUMMARY:Camper Jam 2026
DESCRIPTION:Camper Jam — это самый популярный в Великобритании фестиваль VW-кемперов и образа жизни\, который проводится на прекрасной территории Уэстон-Парка в Шропшире. Мероприятие выходного дня посвящено классическим автомобилям VW и кемперам и включает в себя торговые стенды\, развлечения\, живую музыку и встречи сообщества.
LOCATION:Weston Park\, Weston-under-Lizard\, GB
GEO:52.6906;-2.3418
URL:https://www.camperjam.com
STATUS:CONFIRMED
CATEGORIES:Exhibition,RV,Camping
END:VEVENT
END:VCALENDAR
