BEGIN:VCALENDAR
VERSION:2.0
PRODID:-//OpenVan.camp//Calendar//EN
CALSCALE:GREGORIAN
METHOD:PUBLISH
BEGIN:VEVENT
UID:vanlife-fest-2026@coffee.bez.coffee
DTSTAMP:20260424T043159Z
DTSTART;VALUE=DATE:20260619
DTEND;VALUE=DATE:20260622
SUMMARY:VanLife Fest 2026
DESCRIPTION:VanLife Fest — это британский фестиваль ванлайфа и кемпинга\, который проходит на прекрасной территории Scampston Hall в Северном Йоркшире. Мероприятие на выходные посвящено сообществу ванлайфа и включает в себя экскурсии по фургонам\, мастер-классы\, фуд-корты и живые выступления.
LOCATION:Scampston Hall\, Малтон\, GB
GEO:54.1345;-0.689
URL:https://www.vanlifefest.co.uk
STATUS:CONFIRMED
CATEGORIES:Exhibition,RV,Camping
END:VEVENT
END:VCALENDAR
