BEGIN:VCALENDAR
VERSION:2.0
PRODID:-//OpenVan.camp//Calendar//EN
CALSCALE:GREGORIAN
METHOD:PUBLISH
BEGIN:VEVENT
UID:vanlife-festival-2026@coffee.bez.coffee
DTSTAMP:20260424T001051Z
DTSTART;VALUE=DATE:20260529
DTEND;VALUE=DATE:20260601
SUMMARY:Vanlife Festival 2026
DESCRIPTION:The Vanlife Festival — это главное празднование культуры ванлайфа в Великобритании\, которое проводится на выставочной площадке West Mid Showground в Шрусбери. Трехдневный фестиваль объединяет мастеров по переоборудованию фургонов\, любителей активного отдыха на природе и сообщества ванлайферов для участия в мастер-классах\, прослушивания живой музыки и посещения вдохновляющей торговой площадки.
LOCATION:West Mid Showground\, Шрусбери\, GB
GEO:52.7196;-2.769
URL:https://thevanlifefestival.co.uk
STATUS:CONFIRMED
CATEGORIES:Exhibition,RV,Camping
END:VEVENT
END:VCALENDAR
