BEGIN:VCALENDAR
VERSION:2.0
PRODID:-//OpenVan.camp//Calendar//EN
CALSCALE:GREGORIAN
METHOD:PUBLISH
BEGIN:VEVENT
UID:salon-des-vehicules-de-loisirs-vdl-2026@coffee.bez.coffee
DTSTAMP:20260424T001051Z
DTSTART;VALUE=DATE:20260926
DTEND;VALUE=DATE:20261005
SUMMARY:Салон транспорта для отдыха (VDL) 2026
DESCRIPTION:**Salon des Véhicules de Loisirs (VDL)** — крупнейший французский салон домов на колёсах\, кемперов и караванов в Париже. Ежегодно собирает свыше 87 000 посетителей.\n\n### 60-я юбилейная edition\n\nНа 60-й выставке представлены:\n- Кемперы (camping-cars intégraux et profilés)\n- Фургоны (fourgons aménagés)\n- Караваны и прицепы (caravanes)\n- Аксессуары\, оборудование и кемпинг-технологии\n- Страховки и финансовые решения для путешественников\n\n### Практическая информация\n\n**Часы работы:** 10:00 – 19:00 ежедневно\n**Билеты:** взрослые 15 EUR\, дети до 10 лет бесплатно\, дети 10–14 лет 7 EUR\n\n**Транспорт:** бесплатный шаттл от станции RER Le Bourget (каждые 15 минут\, 9:00–20:00)\n**Парковка:** 8 000 мест\, въезд: 5 avenue du Maréchal Leclerc de Hauteclocque\, 93440 Dugny
LOCATION:Parc des Expositions Paris-Le Bourget\, Ле-Бурже\, FR
GEO:48.9437;2.4271
URL:https://salonvdl.com
STATUS:CONFIRMED
CATEGORIES:Exhibition,RV,Camping
END:VEVENT
END:VCALENDAR
