BEGIN:VCALENDAR
VERSION:2.0
PRODID:-//OpenVan.camp//Calendar//EN
CALSCALE:GREGORIAN
METHOD:PUBLISH
BEGIN:VEVENT
UID:adac-camper-des-jahres-2026@coffee.bez.coffee
DTSTAMP:20260424T031921Z
DTSTART;VALUE=DATE:20260905
DTEND;VALUE=DATE:20260906
SUMMARY:ADAC Кемпер года
DESCRIPTION:ADAC снова ищет лучших водителей жилых авто в Германии. В двенадцати региональных отборочных турах энтузиасты кемпинга могут квалифицироваться для участия в большом финале 5 сентября 2026 года на CARAVAN SALON в Дюссельдорфе. Главный приз в финале — эксклюзивное кемпинг-путешествие в Северную Америку\, включая перелет\, стоимостью в несколько тысяч евро.
LOCATION:CARAVAN SALON Дюссельдорф\, Дюссельдорф\, DE
URL:https://adac.de/cdj
STATUS:CONFIRMED
CATEGORIES:Exhibition,RV,Camping
END:VEVENT
END:VCALENDAR
