BEGIN:VCALENDAR
VERSION:2.0
PRODID:-//OpenVan.camp//Calendar//EN
CALSCALE:GREGORIAN
METHOD:PUBLISH
BEGIN:VEVENT
UID:event-2026-8@coffee.bez.coffee
DTSTAMP:20260424T001052Z
DTSTART;VALUE=DATE:20260530
DTEND;VALUE=DATE:20260601
SUMMARY:Ярмарка кемперов Хиросима 2026
DESCRIPTION:### О ярмарке кемперов в Хиросиме 2026\n\nЯрмарка кемперов Хиросима — крытая выставка новых и подержанных автодомов\, организованная Японской ассоциацией автодомов (JRVA). Представлены модели от ведущих производителей региона.\n\n### Чего ожидать\n\nПосетители смогут сравнить различные автодомы\, пообщаться с производителями и дилерами\, получить практическую информацию — как для опытных путешественников\, так и для новичков.\n\n### О площадке\n\nМероприятие проходит в Выставочном зале малого и среднего бизнеса Хиросимы в районе Ниши — удобная крытая площадка рядом с центром Хиросимы.
LOCATION:Выставочный зал малого и среднего бизнеса Хиросимы\, Хиросима\, JP
GEO:34.3917241;132.4517589
URL:https://jrva-event.com/event/hiroshima2026/
STATUS:CONFIRMED
CATEGORIES:Exhibition,RV,Camping
END:VEVENT
END:VCALENDAR
