BEGIN:VCALENDAR
VERSION:2.0
PRODID:-//OpenVan.camp//Calendar//EN
CALSCALE:GREGORIAN
METHOD:PUBLISH
BEGIN:VEVENT
UID:expo-motorhome-brazil-2026@coffee.bez.coffee
DTSTAMP:20260423T211532Z
DTSTART;VALUE=DATE:20261125
DTEND;VALUE=DATE:20261130
SUMMARY:Expo Motorhome Brazil 2026
DESCRIPTION:Expo Motorhome — крупнейшая ярмарка автодомов и кемпинга Латинской Америки. Ежегодно проходит в Expotrade\, Пиньяис (штат Парана\, Бразилия). Пять дней демонстраций\, семинаров и развлечений.\n\n### Что представлено\n\n- Автодома\, кемперы и переоборудованные фургоны\n- Аксессуары и технологии для мобильной жизни\n- Семинары по техническому обслуживанию и туризму\n- Семейные развлечения и активности\n\n---\n\n**Официальный сайт:** <https://www.expomotorhome.com/>
LOCATION:Конгресс-центр Экспотрейд\, Пиньяйс\, BR
GEO:-25.435066;-49.1684116
URL:https://www.expomotorhome.com/
STATUS:CONFIRMED
CATEGORIES:Exhibition,RV,Camping
END:VEVENT
END:VCALENDAR
