BEGIN:VCALENDAR
VERSION:2.0
PRODID:-//OpenVan.camp//Calendar//EN
CALSCALE:GREGORIAN
METHOD:PUBLISH
BEGIN:VEVENT
UID:gocaf-kintex-final-season-2026@coffee.bez.coffee
DTSTAMP:20260424T013232Z
DTSTART;VALUE=DATE:20261127
DTEND;VALUE=DATE:20261130
SUMMARY:GOCAF KINTEX Финальный сезон 2026
DESCRIPTION:GOCAF KINTEX The Final Season — завершающий флагманский этап главной серии кемпинговых выставок Кореи 2026 года. Проходит на площадке KINTEX — крупнейшего выставочного центра страны.\n\n### Что представлено\n\n- Кемперы\, автодома и кемпинговые прицепы\n- Палатки\, шатры и снаряжение для кемпинга\n- Кемпинговая мебель\, гаджеты и аксессуары\n- Новинки и итоги кемпингового сезона 2026\n\nВход свободный — по предварительной регистрации.\n\n---\n\n**Официальный сайт:** <https://gocaf.kr/>
LOCATION:KINTEX\, Goyang\, KR
GEO:37.6686419;126.7442989
URL:https://gocaf.kr/
STATUS:CONFIRMED
CATEGORIES:Exhibition,RV,Camping
END:VEVENT
END:VCALENDAR
