BEGIN:VCALENDAR
VERSION:2.0
PRODID:-//OpenVan.camp//Calendar//EN
CALSCALE:GREGORIAN
METHOD:PUBLISH
BEGIN:VEVENT
UID:bendigo-caravan-camping-leisurefest-2026@coffee.bez.coffee
DTSTAMP:20260424T044505Z
DTSTART;VALUE=DATE:20261120
DTEND;VALUE=DATE:20261123
SUMMARY:Фестиваль караванов и кемпинга Бендиго 2026
DESCRIPTION:Bendigo Caravan & Camping Leisurefest — ежегодная выставка кемперов и кемпинга в Бендиго (штат Виктория\, Австралия). Проходит на площадке Bendigo Racecourse.\n\n### Что представлено\n\n- Жилые прицепы\, автодома и кемперы всех классов\n- Внедорожные прицепы и 4×4-аксессуары\n- Снаряжение и оборудование для кемпинга\n- Туристические предложения и парки отдыха Виктории\n\n---\n\n**Официальный сайт:** <https://www.caravanshow.com.au/shows/the-bendigo-caravan-camping-leisurefest/>
LOCATION:Ипподром Бендиго\, Бендиго\, AU
URL:https://www.caravanshow.com.au/shows/the-bendigo-caravan-camping-leisurefest/
STATUS:CONFIRMED
CATEGORIES:Exhibition,RV,Camping
END:VEVENT
END:VCALENDAR
