BEGIN:VCALENDAR
VERSION:2.0
PRODID:-//OpenVan.camp//Calendar//EN
CALSCALE:GREGORIAN
METHOD:PUBLISH
BEGIN:VEVENT
UID:perth-4wd-adventure-show-2026@coffee.bez.coffee
DTSTAMP:20260424T031921Z
DTSTART;VALUE=DATE:20261106
DTEND;VALUE=DATE:20261109
SUMMARY:Выставка внедорожников и приключений Перт 2026
DESCRIPTION:Perth 4WD & Adventure Show — крупнейшая выставка внедорожного и приключенческого снаряжения Западной Австралии. Ежегодно проходит на McCallum Park в Перте с пятницы по воскресенье.\n\n### Что представлено\n\n- Внедорожные автомобили и аксессуары для 4WD\n- Кемперы\, прицепы и кемпинговые прицепы для оверлендинга\n- Снаряжение для кемпинга\, рыбалки и активного отдыха\n- Лодки и водный транспорт\n\nОрганизована как самая большая выставка подобного рода в Австралии. Доступна бесплатная парковка и бесплатный шаттл-бас.\n\n---\n\n**Официальный сайт:** <https://perth.4wdshow.com.au/>
LOCATION:McCallum Park\, Перт\, AU
URL:https://perth.4wdshow.com.au/
STATUS:CONFIRMED
CATEGORIES:Exhibition,RV,Camping
END:VEVENT
END:VCALENDAR
