BEGIN:VCALENDAR
VERSION:2.0
PRODID:-//OpenVan.camp//Calendar//EN
CALSCALE:GREGORIAN
METHOD:PUBLISH
BEGIN:VEVENT
UID:gocaf-incheon-season-2-2026@coffee.bez.coffee
DTSTAMP:20260424T013232Z
DTSTART;VALUE=DATE:20261030
DTEND;VALUE=DATE:20261102
SUMMARY:GOCAF Инчхон Сезон 2 2026
DESCRIPTION:GOCAF Incheon Season 2 — осенний этап главной серии кемпинговых выставок Кореи. Проходит на площадке Songdo Convensia в Инчхоне.\n\n### Что представлено\n\n- Кемперы\, автодома и кемпинговые прицепы\n- Палатки\, шатры и снаряжение для кемпинга\n- Кемпинговая мебель\, гаджеты и аксессуары\n- Кемпинговая еда и гастрономия\n\nВход свободный — по предварительной регистрации.\n\n---\n\n**Официальный сайт:** <https://gocaf.kr/>
LOCATION:Songdo Convensia\, Инчхон\, KR
URL:https://gocaf.kr/
STATUS:CONFIRMED
CATEGORIES:Exhibition,RV,Camping
END:VEVENT
END:VCALENDAR
