BEGIN:VCALENDAR
VERSION:2.0
PRODID:-//OpenVan.camp//Calendar//EN
CALSCALE:GREGORIAN
METHOD:PUBLISH
BEGIN:VEVENT
UID:lets-go-explore-caravan-rv-expo-2026@coffee.bez.coffee
DTSTAMP:20260424T044505Z
DTSTART;VALUE=DATE:20261029
DTEND;VALUE=DATE:20261102
SUMMARY:Let's Go Explore Caravan & RV Expo 2026
DESCRIPTION:Let's Go Explore Caravan & RV Expo — осенняя выставка кемперов и прицепов в Брисбене. Четыре дня новинок для любителей путешествий на колёсах: от внедорожных кемперов до компактных прицепов.\n\n### Что представлено\n\n- Внедорожные прицепы-дачи и кемперы класса off-road\n- Автодома и кемперваны\n- 4×4-аксессуары и снаряжение для оверлендинга\n- Ежедневные VANSafe Masterclasses (весовые нормы\, буксировка\, безопасность)\n- Розыгрыши призов\n\nЧасы работы: 9:00–17:00 ежедневно.\n\nПроезд: бесплатный поезд для держателей онлайн-билетов.\n\n---\n\n**Официальный сайт:** <https://www.caravanqld.com.au/show/lets-go-explore-caravan-and-rv-expo/>
LOCATION:Brisbane Showgrounds (RNA)\, Брисбен\, AU
GEO:-27.4503048;153.0327621
URL:https://www.caravanqld.com.au/show/lets-go-explore-caravan-and-rv-expo/
STATUS:CONFIRMED
CATEGORIES:Exhibition,RV,Camping
END:VEVENT
END:VCALENDAR
