BEGIN:VCALENDAR
VERSION:2.0
PRODID:-//OpenVan.camp//Calendar//EN
CALSCALE:GREGORIAN
METHOD:PUBLISH
BEGIN:VEVENT
UID:melbourne-caravan-camping-leisurefest-2026@coffee.bez.coffee
DTSTAMP:20260424T031812Z
DTSTART;VALUE=DATE:20261001
DTEND;VALUE=DATE:20261005
SUMMARY:Фестиваль караванов и кемпинга Мельбурн 2026
DESCRIPTION:Melbourne Caravan & Camping Leisurefest — ежегодная осенняя выставка кемперов и кемпинга в Мельбурне. Проходит на Sandown Racecourse в Спрингвейле — удобно добраться на поезде (станция Sandown Park).\n\n### Что представлено\n\n- Прицепы-дачи\, автодома и кемперы всех классов\n- Внедорожные прицепы и 4×4-аксессуары\n- Снаряжение и оборудование для кемпинга и туризма\n- Новинки и дебютные модели сезона\, туристические предложения со всей Австралии\n\nБилеты — только онлайн (кассы на месте не работают). Бесплатная парковка на территории Sandown Racecourse.\n\n---\n\n**Официальный сайт:** <https://www.caravanshow.com.au/shows/the-melbourne-caravan-camping-leisurefest/>\n**Билеты:** <https://www.caravanshow.com.au/shows/the-melbourne-caravan-camping-leisurefest/tickets/>
LOCATION:Ипподром Сандон\, Мельбурн\, AU
GEO:-37.9485992;145.160819
URL:https://www.caravanshow.com.au/shows/the-melbourne-caravan-camping-leisurefest/
STATUS:CONFIRMED
CATEGORIES:Exhibition,RV,Camping
END:VEVENT
END:VCALENDAR
