BEGIN:VCALENDAR
VERSION:2.0
PRODID:-//OpenVan.camp//Calendar//EN
CALSCALE:GREGORIAN
METHOD:PUBLISH
BEGIN:VEVENT
UID:elmia-husvagn-husbil-2026@coffee.bez.coffee
DTSTAMP:20260424T060752Z
DTSTART;VALUE=DATE:20260909
DTEND;VALUE=DATE:20260914
SUMMARY:Выставка караванов и автодомов Elmia 2026
DESCRIPTION:Elmia Husvagn & Husbil (Scandinavian Caravan Show) — крупнейшая выставка автодомов и жилых прицепов Скандинавии. Ежегодно проходит в Jönköping и собирает более 36 000 единиц техники и 150+ экспонентов.\n\n### Что представлено\n\n- Husvagnar (жилые прицепы) и husbilar (автодома) всех классов\n- Аксессуары\, оборудование и технологии для автопутешествий\n- Новинки сезона от ведущих европейских производителей\n- Туристические маршруты и кемпинги Скандинавии\n\nОрганизована Elmia AB — одним из ведущих выставочных операторов Скандинавии.\n\n---\n\n**Официальный сайт:** <https://www.elmia.se/en/husvagn/>
LOCATION:Выставочный центр Эльмия\, Йёнчёпинг\, SE
GEO:57.788655;14.2276345
URL:https://www.elmia.se/en/husvagn/
STATUS:CONFIRMED
CATEGORIES:Exhibition,RV,Camping
END:VEVENT
END:VCALENDAR
