BEGIN:VCALENDAR
VERSION:2.0
PRODID:-//OpenVan.camp//Calendar//EN
CALSCALE:GREGORIAN
METHOD:PUBLISH
BEGIN:VEVENT
UID:lets-go-sunshine-coast-caravan-outdoor-expo-2026@coffee.bez.coffee
DTSTAMP:20260424T031911Z
DTSTART;VALUE=DATE:20260821
DTEND;VALUE=DATE:20260824
SUMMARY:Let's Go Sunshine Coast Caravan & Outdoor Expo 2026
DESCRIPTION:Let's Go Sunshine Coast Caravan & Outdoor Expo — летняя выставка кемпинга и активного отдыха на Саншайн-Косте (Квинсленд\, Австралия).\n\n### Что представлено\n\n- Автодома\, кемперы и жилые прицепы\n- Внедорожные кемперы и 4×4-аксессуары\n- Снаряжение и оборудование для кемпинга и аутдора\n- Туристические направления Квинсленда\n\n---\n\n**Официальный сайт:** <https://www.caravanqld.com.au/show/lets-go-sunshine-coast-caravan-outdoor-expo/>
LOCATION:Nambour Showgrounds\, Намбур\, AU
URL:https://www.caravanqld.com.au/show/lets-go-sunshine-coast-caravan-outdoor-expo/
STATUS:CONFIRMED
CATEGORIES:Exhibition,RV,Camping
END:VEVENT
END:VCALENDAR
