BEGIN:VCALENDAR
VERSION:2.0
PRODID:-//OpenVan.camp//Calendar//EN
CALSCALE:GREGORIAN
METHOD:PUBLISH
BEGIN:VEVENT
UID:gocaf-seoul-setec-2026@coffee.bez.coffee
DTSTAMP:20260424T001050Z
DTSTART;VALUE=DATE:20260710
DTEND;VALUE=DATE:20260713
SUMMARY:GOCAF Сеул SETEC 2026
DESCRIPTION:GOCAF SETEC — особый летний этап главной серии кемпинговых выставок Кореи. Проходит в центре SETEC в сеульском районе Каннам.\n\n### Что представлено\n\n- Кемперы\, автодома и кемпинговые прицепы\n- Палатки\, шатры и снаряжение для кемпинга\n- Кемпинговая мебель\, гаджеты и аксессуары\n- Кемпинговая еда и гастрономия\n\nВход свободный — по предварительной регистрации.\n\n---\n\n**Официальный сайт:** <https://gocaf.kr/>
LOCATION:SETEC\, Сеул\, KR
URL:https://gocaf.kr/
STATUS:CONFIRMED
CATEGORIES:Exhibition,RV,Camping
END:VEVENT
END:VCALENDAR
