BEGIN:VCALENDAR
VERSION:2.0
PRODID:-//OpenVan.camp//Calendar//EN
CALSCALE:GREGORIAN
METHOD:PUBLISH
BEGIN:VEVENT
UID:lets-go-queensland-caravan-camping-supershow-2026@coffee.bez.coffee
DTSTAMP:20260424T031553Z
DTSTART;VALUE=DATE:20260603
DTEND;VALUE=DATE:20260608
SUMMARY:Суперсалон караванов и кемпинга Квинсленд 2026
DESCRIPTION:Let's Go Queensland Caravan & Camping Supershow — крупнейшая выставка кемпинга и кемперов в штате Квинсленд. Около **250 экспонентов** демонстрируют новейшие автодома\, кемперы\, прицепы\, внедорожники и аксессуары.\n\n### Что представлено\n\n- Новые модели прицепов-дач\, автодомов и кемперов\n- Внедорожные прицепы и кемперы класса off-road\n- 4×4-аксессуары и снаряжение для оверлендинга\n- Аксессуары и оборудование для кемпинга\n\nЧасы работы: ср–сб 9:00–17:00\, вс 9:00–16:00.\n\nПроезд: **бесплатный поезд** для держателей онлайн-билетов с любой станции сети Queensland Rail Citytrain до Roma\, Central или Fortitude Valley\, далее бесплатный шаттл до Brisbane Showgrounds.\n\n---\n\n**Официальный сайт:** <https://www.caravanqld.com.au/show/lets-go-queensland-caravan-camping-supershow/>
LOCATION:Brisbane Showgrounds (RNA)\, Брисбен\, AU
GEO:-27.4503048;153.0327621
URL:https://www.caravanqld.com.au/show/lets-go-queensland-caravan-camping-supershow/
STATUS:CONFIRMED
CATEGORIES:Exhibition,RV,Camping
END:VEVENT
END:VCALENDAR
