BEGIN:VCALENDAR
VERSION:2.0
PRODID:-//OpenVan.camp//Calendar//EN
CALSCALE:GREGORIAN
METHOD:PUBLISH
BEGIN:VEVENT
UID:nzmca-motorhome-caravan-leisure-show-christchurch-2026@coffee.bez.coffee
DTSTAMP:20260424T043229Z
DTSTART;VALUE=DATE:20260516
DTEND;VALUE=DATE:20260518
SUMMARY:Салон автодомов и караванов NZMCA Крайстчёрч 2026
DESCRIPTION:NZMCA Motorhome\, Caravan & Leisure Show — региональная выставка Новозеландской ассоциации мотор-кемперов в Крайстчёрче. Проходит на площадке Wolfbrook Arena и привлекает покупателей и энтузиастов со всего Южного острова.\n\n### Что представлено\n\n- Новые модели автодомов\, кемперов и жилых прицепов\n- Аксессуары и оборудование для кемпинга и путешествий\n- Консультации специалистов NZMCA\n\n---\n\n**Официальный сайт:** <https://www.nzmotorhomeshow.co.nz/>
LOCATION:Wolfbrook Arena\, Крайстчерч\, NZ
GEO:-43.545762;172.601278
URL:https://www.nzmotorhomeshow.co.nz/
STATUS:CONFIRMED
CATEGORIES:Exhibition,RV,Camping
END:VEVENT
END:VCALENDAR
