BEGIN:VCALENDAR
VERSION:2.0
PRODID:-//OpenVan.camp//Calendar//EN
CALSCALE:GREGORIAN
METHOD:PUBLISH
BEGIN:VEVENT
UID:gocaf-kintex-2026@coffee.bez.coffee
DTSTAMP:20260424T031552Z
DTSTART;VALUE=DATE:20260523
DTEND;VALUE=DATE:20260526
SUMMARY:GOCAF KINTEX 2026
DESCRIPTION:GOCAF KINTEX — флагманский этап главной серии кемпинговых выставок Южной Кореи. Проходит на площадке KINTEX — крупнейшего выставочного центра страны в пригороде Сеула.\n\n### Что представлено\n\n- Кемперы\, автодома и кемпинговые прицепы\n- Палатки\, шатры и снаряжение для кемпинга\n- Кемпинговая мебель\, гаджеты и аксессуары для аутдора\n- Кемпинговая еда\, гастрономия и уличные рестораны\n- Семейный аутдор-лайфстайл\n\nВход свободный — по предварительной регистрации на официальном сайте.\n\n---\n\n**Официальный сайт:** <https://gocaf.kr/>
LOCATION:KINTEX\, Goyang\, KR
GEO:37.6686419;126.7442989
URL:https://gocaf.kr/
STATUS:CONFIRMED
CATEGORIES:Exhibition,RV,Camping
END:VEVENT
END:VCALENDAR
