BEGIN:VCALENDAR
VERSION:2.0
PRODID:-//OpenVan.camp//Calendar//EN
CALSCALE:GREGORIAN
METHOD:PUBLISH
BEGIN:VEVENT
UID:gocaf-busan-2026@coffee.bez.coffee
DTSTAMP:20260424T031146Z
DTSTART;VALUE=DATE:20260424
DTEND;VALUE=DATE:20260427
SUMMARY:GOCAF Пусан 2026
DESCRIPTION:GOCAF (Go Camping and Outdoor Fair) в Пусане — крупный этап главной серии кемпинговых выставок Южной Кореи. Проходит в BEXCO — одном из ведущих конгрессно-выставочных центров Азии.\n\n### Что представлено\n\n- Кемперы\, автодома и кемпинговые прицепы\n- Палатки\, шатры и снаряжение для кемпинга\n- Кемпинговая мебель\, гаджеты и аксессуары для аутдора\n- Кемпинговая еда\, гастрономия и уличные рестораны\n- Семейный аутдор-лайфстайл\n\nВход свободный — по предварительной регистрации на официальном сайте.\n\n---\n\n**Официальный сайт:** <https://gocaf.kr/>
LOCATION:BEXCO\, Пусан\, KR
URL:https://gocaf.kr/
STATUS:CONFIRMED
CATEGORIES:Exhibition,RV,Camping
END:VEVENT
END:VCALENDAR
