BEGIN:VCALENDAR
VERSION:2.0
PRODID:-//OpenVan.camp//Calendar//EN
CALSCALE:GREGORIAN
METHOD:PUBLISH
BEGIN:VEVENT
UID:otpusk-expofest-2026@coffee.bez.coffee
DTSTAMP:20260424T043228Z
DTSTART;VALUE=DATE:20260618
DTEND;VALUE=DATE:20260621
SUMMARY:ОТПУСК Expo&Fest 2026
DESCRIPTION:ОТПУСК Expo&Fest — выставка-форум для туристической индустрии и открытый фестиваль активного отдыха. Кемпинги\, глэмпинги\, туроператоры\, снаряжение для путешествий — всё на одной площадке в Краснодаре.\n\n### Участники и экспоненты\n\n- Кемпинговые и глэмпинговые парки\n- Туроператоры и турагенты\n- Производители и дилеры оборудования для кемпинга и активного отдыха\n- Сервисы и технологии для путешественников\n\n### О площадке\n\nВКК «Экспоград Юг» — главный выставочный комплекс Краснодарского края и Южного федерального округа.\n\n---\n\n**Официальный сайт:** <https://holiday.uvk-expo.ru/>\n**Контакт:** [+7 861 202-05-35](tel:+78612020535) · holiday@uvk-expo.ru\n**Telegram:** <https://t.me/holiday_expo_and_fest>
LOCATION:ВКК «Экспоград Юг»\, Краснодар\, RU
GEO:45.1068801;38.9705848
URL:https://holiday.uvk-expo.ru/
STATUS:CONFIRMED
CATEGORIES:Exhibition,RV,Camping
END:VEVENT
END:VCALENDAR
