BEGIN:VCALENDAR
VERSION:2.0
PRODID:-//OpenVan.camp//Calendar//EN
CALSCALE:GREGORIAN
METHOD:PUBLISH
BEGIN:VEVENT
UID:caravan-xpo-2026@coffee.bez.coffee
DTSTAMP:20260424T031551Z
DTSTART;VALUE=DATE:20260917
DTEND;VALUE=DATE:20260921
SUMMARY:Caravan Xpo 2026
DESCRIPTION:Caravan Xpo — главная норвежская выставка кемперов и кемпинга. Проходит на X Meeting Point в Хеллерудслетта под Осло: лучшее из индустрии кемперов и аутдор-снаряжения для всей семьи.\n\n### Что представлено\n\n- Новые модели кемперов\, автодомов и прицепов-дач\n- Аксессуары и снаряжение для кемпинга и путешествий\n- Вдохновение и советы для следующего путешествия\n- Яркие впечатления для детей и взрослых\n\n---\n\n**Официальный сайт:** <https://caravanxpo.no/>
LOCATION:X Meeting Point Hellerudsletta\, Лёренског\, NO
GEO:59.983948;10.973887
URL:https://caravanxpo.no/
STATUS:CONFIRMED
CATEGORIES:Exhibition,RV,Camping
END:VEVENT
END:VCALENDAR
