BEGIN:VCALENDAR
VERSION:2.0
PRODID:-//OpenVan.camp//Calendar//EN
CALSCALE:GREGORIAN
METHOD:PUBLISH
BEGIN:VEVENT
UID:kampeer-caravan-jaarbeurs-2026@coffee.bez.coffee
DTSTAMP:20260424T004328Z
DTSTART;VALUE=DATE:20260930
DTEND;VALUE=DATE:20261005
SUMMARY:Кемпинг и караван-ярмарка Яарбёрс 2026
DESCRIPTION:Kampeer & Caravan Jaarbeurs — крупнейшая голландская выставка кемпинга и кемперов. 61-е издание: пять дней в самом сердце Утрехта\, в двух минутах ходьбы от центрального вокзала.\n\n### Что представлено\n\n- Новые кемперы\, прицепы-дачи и автодома от ведущих марок\n- Палатки\, снаряжение\, аксессуары для кемпинга\n- Специальные театральные сессии и демонстрации: техника\, безопасность\, обслуживание\, подготовка к путешествию\n- Более **40 000 посетителей** ежегодно\n\nЧасы работы: 10:00–17:00. Дети до 18 лет — бесплатно. Собаки не допускаются (кроме собак-поводырей).\n\n---\n\n**Официальный сайт:** <https://www.kampeerencaravanjaarbeurs.nl/>\n**Билеты:** <https://www.kampeerencaravanjaarbeurs.nl/en/tickets>
LOCATION:Jaarbeurs Utrecht\, Утрехт\, NL
GEO:52.089961;5.1063851
URL:https://www.kampeerencaravanjaarbeurs.nl/
STATUS:CONFIRMED
CATEGORIES:Exhibition,RV,Camping
END:VEVENT
END:VCALENDAR
