BEGIN:VCALENDAR
VERSION:2.0
PRODID:-//OpenVan.camp//Calendar//EN
CALSCALE:GREGORIAN
METHOD:PUBLISH
BEGIN:VEVENT
UID:warsaw-caravaning-festival-2026@coffee.bez.coffee
DTSTAMP:20260424T031914Z
DTSTART;VALUE=DATE:20260509
DTEND;VALUE=DATE:20260511
SUMMARY:Варшавский фестиваль караванинга 2026
DESCRIPTION:Warsaw Caravaning Festival — ежегодная выставка кемперов и кемпинга в Варшаве\, совмещённая со слётом кемперистов и конными скачками на Торе Служевец.\n\n### На выставке\n\n- Автодома\, прицепы-дачи и аксессуары от ведущих брендов\n- Новинки сезона от польских и европейских производителей\n- Зона ванлайфа и DIY-конверсий\n\n### Слёт Przystanek_Festival\n\nКемперный слёт проходит одновременно с выставкой. Заезд — пятница с 15:00\, отъезд — воскресенье до 21:00. Участники получают пакет подарков и привилегий.\n\n### Конные скачки\n\nБилет на выставку также даёт вход на **выставочные скачки** с 14:00–19:00. Два события в одном.\n\nЧасы работы: 9:00–19:00 (суббота и воскресенье).\n\n---\n\n**Официальный сайт:** <https://caravaningfestival.pl/>
LOCATION:Tor Wyścigów Konnych Służewiec\, Варшава\, PL
GEO:52.1651607;21.0159229
URL:https://caravaningfestival.pl/
STATUS:CONFIRMED
CATEGORIES:Exhibition,RV,Camping
END:VEVENT
END:VCALENDAR
