BEGIN:VCALENDAR
VERSION:2.0
PRODID:-//OpenVan.camp//Calendar//EN
CALSCALE:GREGORIAN
METHOD:PUBLISH
BEGIN:VEVENT
UID:caravans-salon-poland-2026@coffee.bez.coffee
DTSTAMP:20260424T022016Z
DTSTART;VALUE=DATE:20261008
DTEND;VALUE=DATE:20261012
SUMMARY:Салон караванов Польша 2026
DESCRIPTION:Caravans Salon Poland — крупнейшая выставка кемпинга и кемперов в Польше. Более **600 автодомов и прицепов** в 8 павильонах на площади ~45 000 м².\n\n### Что представлено\n\n- Автодома (motorhome) и прицепы-дачи (caravan) ведущих производителей\n- Премьеры новых моделей сезона от европейских брендов\n- **Зона VANLIFE** — самостоятельные сборки и конверсии фургонов\n- **Зона RETRO** — исторические и винтажные кемперы\n- Аксессуары\, оборудование и снаряжение для кемпинга\n\n### Zlot Przystanek_Targi\n\nОдновременно с выставкой (пт–вс) проходит кемперный слёт **Przystanek_Targi** — отдельная регистрация.\n\n---\n\n**Официальный сайт:** <https://caravanssalon.pl/>
LOCATION:Международная Познаньская ярмарка (MTP)\, Познань\, PL
GEO:52.4028082;16.9101031
URL:https://caravanssalon.pl/
STATUS:CONFIRMED
CATEGORIES:Exhibition,RV,Camping
END:VEVENT
END:VCALENDAR
