BEGIN:VCALENDAR
VERSION:2.0
PRODID:-//OpenVan.camp//Calendar//EN
CALSCALE:GREGORIAN
METHOD:PUBLISH
BEGIN:VEVENT
UID:vanlife-expo-grenoble-2026@coffee.bez.coffee
DTSTAMP:20260424T043229Z
DTSTART;VALUE=DATE:20260509
DTEND;VALUE=DATE:20260511
SUMMARY:Vanlife Expo Гренобль 2026
DESCRIPTION:Vanlife Expo — главная французская выставка ванлайф-культуры и путешествий на колёсах. В 2026 году в Гренобле пройдёт **3-я édition**: ещё крупнее\, амбициознее и разнообразнее предыдущих.\n\n### Что можно увидеть\n\n- Готовые автодома и кемперы от ведущих производителей\n- Самостоятельные сборки и конверсии фургонов (DIY campervan)\n- Аксессуары\, оборудование и снаряжение для ванлайфа\n- Зона приключенческих путешествий и активного туризма\n\nВсе билеты продаются **только онлайн** на официальном сайте — касса на входе не работает. Животные на территорию не допускаются.\n\n---\n\n**Официальный сайт:** <https://vanlife-expo.com/grenoble/>\n**Билеты:** <https://vanlife-expo.com/grenoble/billetterie-alpexpo-grenoble/>
LOCATION:Alpexpo Grenoble\, Гренобль\, FR
GEO:45.1546344;5.7352277
URL:https://vanlife-expo.com/grenoble/
STATUS:CONFIRMED
CATEGORIES:Exhibition,RV,Camping
END:VEVENT
END:VCALENDAR
