BEGIN:VCALENDAR
VERSION:2.0
PRODID:-//OpenVan.camp//Calendar//EN
CALSCALE:GREGORIAN
METHOD:PUBLISH
BEGIN:VEVENT
UID:abenteuer-allrad-2026@coffee.bez.coffee
DTSTAMP:20260424T043229Z
DTSTART;VALUE=DATE:20260604
DTEND;VALUE=DATE:20260608
SUMMARY:Приключение и полный привод 2026
DESCRIPTION:ABENTEUER & ALLRAD — крупнейшая европейская выставка в сфере офф-роуда\, оверлендинга и экспедиционных автомобилей. На площадке более 110 000 м² ежегодно собираются свыше 400 экспонентов из многих стран мира.\n\n### Что представлено\n\n- Внедорожники и полноприводные автомобили\n- Экспедиционные мобили и кемперы-экспедиции\n- Квадроциклы и ATV\n- Снаряжение\, аксессуары и оборудование для оверлендинга\n- Решения в области электромобильности\n\n### Особенности\n\n- Офф-роуд трассы для тест-драйвов прямо на территории\n- Площадка CAMP AREA: ночёвка участников прямо на выставке\n- Мероприятие проводится с 1999 года\n\n---\n\n**Официальный сайт:** <https://www.abenteuer-allrad.de/>\n**Билеты:** <https://store.abenteuer-allrad.de>
LOCATION:Off-Road Messegelände Bad Kissingen\, Бад-Киссинген\, DE
GEO:50.189943;10.121078
URL:https://www.abenteuer-allrad.de/
STATUS:CONFIRMED
CATEGORIES:Exhibition,RV,Camping
END:VEVENT
END:VCALENDAR
