BEGIN:VCALENDAR
VERSION:2.0
PRODID:-//OpenVan.camp//Calendar//EN
CALSCALE:GREGORIAN
METHOD:PUBLISH
BEGIN:VEVENT
UID:caravanex-2026@coffee.bez.coffee
DTSTAMP:20260424T031517Z
DTSTART;VALUE=DATE:20260529
DTEND;VALUE=DATE:20260601
SUMMARY:Caravanex 2026
DESCRIPTION:Caravanex — масштабное событие для караванеров\, автотуристов и любителей активного отдыха. Выставка проходит уже в **15-й раз** и традиционно радует гостей насыщенной программой.\n\n### Программа\n\n- Мастер-классы\n- Ярмарка местных производителей\n- Гастро-фестиваль и фудкорт\n- Пивной и шашлычный дворики\n- Вечерний гала-концерт\n\n### Экспозиция\n\nНа выставке будут представлены автодома\, прицепы\, мобильные дома\, автомобильные аксессуары\, оборудование для кемпингов и туристическое снаряжение.\n\n### Участники\n\nАвтопутешественники\, караванеры\, сообщества автодомостроителей\, производители техники и оборудования для караванинга\, туроператоры\, представители гостиничного бизнеса\, музейной сферы\, кемпингов\, глэмпингов и кемпстоянок.\n\n---\n\n**Официальный сайт:** <https://kolomna-expo.ru/>
LOCATION:КоломнаЭкспо\, Коломна\, RU
GEO:55.100499;38.766536
URL:https://kolomna-expo.ru/
STATUS:CONFIRMED
CATEGORIES:Exhibition,RV,Camping
END:VEVENT
END:VCALENDAR
