BEGIN:VCALENDAR
VERSION:2.0
PRODID:-//OpenVan.camp//Calendar//EN
CALSCALE:GREGORIAN
METHOD:PUBLISH
BEGIN:VEVENT
UID:hello-camper-zakrytie-sezona-2026@coffee.bez.coffee
DTSTAMP:20260424T031813Z
DTSTART;VALUE=DATE:20260912
DTEND;VALUE=DATE:20260914
SUMMARY:Hello Camper: Закрытие сезона 2026
DESCRIPTION:Закрытие летнего сезона проходит с огоньком — тематическая вечеринка\, в которой с каждым годом участвует всё больше людей. Обязательно приезжай в образе!\n\n### Тема закрытия сезона 2026\n\nКостюмы участников — дополнительный повод для знакомства и общения. Самые яркие образы по традиции отмечаем памятными призами в нескольких номинациях:\n\n- Лучший женский образ\n- Лучший мужской образ\n- Лучший детский образ\n- Лучший семейный образ\n- Лучшее оформление авто/зоны отдыха\n\n### Открытый микрофон\n\nНа закрытии больше времени уделяем общению — продолжительность открытого микрофона в разы больше обычного. Если хотите выступить\, оставьте заявку и опишите суть рассказа. Если не планируете — приходите слушать: всегда весело\, шутки\, забавные истории и уникальный опыт путешествий!\n\n---\n\n**Регистрация:** <https://events.nethouse.ru/spb/70124/>\n**Telegram-канал:** <https://t.me/hellocamper>\n**ВКонтакте:** <https://vk.com/hellocamper>\n\n**Контакт организаторов:** Денис и Елена Абрамовы — WhatsApp [+7 931 008 64 11](tel:+79310086411)
LOCATION:Санкт-Петербург\, RU
URL:https://hellocamper.ru/ending
STATUS:CONFIRMED
CATEGORIES:Exhibition,RV,Camping
END:VEVENT
END:VCALENDAR
