BEGIN:VCALENDAR
VERSION:2.0
PRODID:-//OpenVan.camp//Calendar//EN
CALSCALE:GREGORIAN
METHOD:PUBLISH
BEGIN:VEVENT
UID:hello-camper-otkrytie-sezona-2026@coffee.bez.coffee
DTSTAMP:20260424T031921Z
DTSTART;VALUE=DATE:20260605
DTEND;VALUE=DATE:20260608
SUMMARY:Hello Camper: Открытие сезона 2026
DESCRIPTION:«Hello Camper: Привет Путешественник» — ежегодный фестиваль кемперов и ванлайферов. Организаторы создают «город путешественников» с центральной площадью\, лекторием\, мастер-классами\, детским городком\, ярмаркой мастеров\, фудкортом и дискотекой под открытым небом.\n\n### Традиции Hello Camper\n\n- В пятницу вечером знакомиться с ближайшими соседями и добираться до центральной зоны лагеря\n- В субботу начать день с совместной зарядки\n- Ходить в гости\, общаться и быть дружелюбным\n- Взять браслет «готов познакомиться»\, если ты путешествуешь один\n- Прийти на официальное открытие и закрытие HelloCamper\n- Участвовать в конкурсах и заглянуть к партнёрам мероприятия\n- Посетить лекцию или мастер-класс\n- Поучаствовать в совместном арт-проекте Лэнд Арт\n- Номинировать свой автодом на награду фестиваля\n- Придумать тематический наряд или украсить лагерь по теме Закрытия\n- Прийти на совместное фото\n- Танцевать на концерте и дискотеке\n- Петь у большого костра\n- В воскресенье — совместный завтрак с вкусняшкой для новых и старых друзей\n- Обняться после напутственных слов\n\n---\n\n**Регистрация и подробности:** <https://hellocamper.ru/opening>\n**Telegram:** <https://t.me/hellocamper>\n**ВКонтакте:** <https://vk.com/hellocamper>
LOCATION:Санкт-Петербург\, RU
URL:https://hellocamper.ru/opening
STATUS:CONFIRMED
CATEGORIES:Exhibition,RV,Camping
END:VEVENT
END:VCALENDAR
