BEGIN:VCALENDAR
VERSION:2.0
PRODID:-//OpenVan.camp//Calendar//EN
CALSCALE:GREGORIAN
METHOD:PUBLISH
BEGIN:VEVENT
UID:kosmofest-venlayf-ural-2026@coffee.bez.coffee
DTSTAMP:20260424T044540Z
DTSTART;VALUE=DATE:20260509
DTEND;VALUE=DATE:20260512
SUMMARY:КосмоФест Вэнлайф Урал 2026
DESCRIPTION:«КосмоФест Вэнлайф Урал» открывает весенний сезон путешествий 2026 года и приглашает всех\, кто влюблён в дорогу и свободу!\n\nВ этом году нас вдохновляет космос! Фестиваль посвящён **65-летию первого полёта человека в космос**\, поэтому девиз этого фестиваля: «Дорога зовёт\, а космос ждёт!»\n\n### Программа фестиваля\n\n- **Ярмарка мастеров**\n- **Мастер-классы**\n- **Музыкальная орбита** — дискотека\, посиделки у костра и атмосфера свободы\n- **Космическая программа** — развлечения и активности для детей и взрослых\, квесты\, лекции\, фильмы под звёздами и фотозона\, посвящённая первому полёту человека в космос\n- **Уральское гостеприимство** — космический фудкорт и душевные разговоры\n- **Вечерние посиделки у костра** — новые знакомства и истории\, от которых захватывает дух\n\n«КосмоФест Вэнлайф Урал» — это не просто фестиваль\, это сообщество! Возможность начать лето ярко\, найти новых друзей и вдохновиться на новые приключения.\n\n---\n\n**ВКонтакте:** <https://vk.com/vanlifeural>\n**Telegram:** <https://t.me/+dDAeCDmZyDs0MGEy>
LOCATION:с. Нижнее Село\, Нижнее Село\, RU
GEO:57.073778;59.524278
STATUS:CONFIRMED
CATEGORIES:Exhibition,RV,Camping
END:VEVENT
END:VCALENDAR
