BEGIN:VCALENDAR
VERSION:2.0
PRODID:-//OpenVan.camp//Calendar//EN
CALSCALE:GREGORIAN
METHOD:PUBLISH
BEGIN:VEVENT
UID:poekhali-2026@coffee.bez.coffee
DTSTAMP:20260424T060300Z
DTSTART;VALUE=DATE:20261113
DTEND;VALUE=DATE:20261116
SUMMARY:Поехали 2026
DESCRIPTION:**Поехали 2026** — ежегодная выставка путешествий\, туризма и техники для активного отдыха. Мероприятие проводится уже 6 лет\, объединяя путешественников\, туристов\, блогеров и производителей техники со всей страны.\n\n### Что представлено на выставке\n\n- Автомобили\, мотоциклы\, квадроциклы и вездеходы\n- Автодома и кемперы\n- Снаряжение и оборудование для путешествий\n- Тест-драйвы техники\n- Премьеры и презентации новинок\n\n### Программа\n\nНа протяжении трёх дней проходят тематические встречи со спикерами и блогерами\, шоу-программа\, презентации и мастер-классы для всех\, кто увлечён путешествиями на колёсах.\n\n**Парковка:** 300 руб./день для легковых авто (первые 15 минут бесплатно). Бесплатно для ветеранов\, участников СВО\, инвалидов и многодетных семей.\n\n---\n\n**Официальный сайт:** <https://poehaliexpo.ru/>\n**Билеты:** <https://poehaliexpo.ru/bilety/>\n**ВКонтакте:** <https://vk.com/poehaliexpo>
LOCATION:КВЦ «Патриот ЭКСПО»\, Кубинка\, RU
GEO:55.5705151;36.832493
URL:https://poehaliexpo.ru/
STATUS:CONFIRMED
CATEGORIES:Exhibition,RV,Camping
END:VEVENT
END:VCALENDAR
