BEGIN:VCALENDAR
VERSION:2.0
PRODID:-//OpenVan.camp//Calendar//EN
CALSCALE:GREGORIAN
METHOD:PUBLISH
BEGIN:VEVENT
UID:germesfest-2026-festival-avtodomov@coffee.bez.coffee
DTSTAMP:20260424T031913Z
DTSTART;VALUE=DATE:20260522
DTEND;VALUE=DATE:20260525
SUMMARY:ГермесФест 2026 — фестиваль автодомов и путешественников
DESCRIPTION:ГермесФест — семейный фестиваль автодомов и путешественников «От колёс до парусов» почти в центре Москвы.\n\n### Пакеты участия\n\n**Пакет №1 «Автодом» — 12 000 ₽** за экипаж (до 5 человек):\n- Размещение автодома (2 взрослых + до 3 детей до 18 лет)\n- Участие во всех мероприятиях в течение всех трёх дней фестиваля\n- Сувенирная продукция\, использование инфраструктуры\n- Дополнительные участники старше 18 лет — 3 500 ₽/чел.\n\n**Пакет №2 «Пешеход» — 3 500 ₽** за человека:\n- Участие во всех мероприятиях в течение всех трёх дней фестиваля\n- Сувенирная продукция\, использование инфраструктуры\n\n**Пакет №3 «Комфорт+» — 16 000 ₽** за двоих:\n- Проживание в гостинице 3* с 22 по 24 мая 2026 года (5–7 минут от площадки)\n- Участие во всех мероприятиях в течение всех трёх дней фестиваля\n- Сувенирная продукция\, использование инфраструктуры\n\n---\n\n**Регистрация:** <https://udcamp.ru/fest26>  \n**Telegram-группа:** <https://t.me/+hCKeg9l_DhBlYWQy>  \n**Группа Max** (зеркало Telegram): <https://max.ru/join/RPTaVIN7agfZVrkLlNE2RLjaRmEdXrFu2pW3oe6ulFU>\n\n**Контакт организатора:** Александр Смирнов [+7 (909) 950-78-72](tel:+79099507872) (Telegram\, Max) — [VK](https://vk.com/katarsiz)
LOCATION:Детский морской центр им. Петра Великого\, Москва\, RU
GEO:55.840364;37.479165
URL:https://udcamp.ru/fest26
STATUS:CONFIRMED
CATEGORIES:Exhibition,RV,Camping
END:VEVENT
END:VCALENDAR
