BEGIN:VCALENDAR
VERSION:2.0
PRODID:-//OpenVan.camp//Calendar//EN
CALSCALE:GREGORIAN
METHOD:PUBLISH
BEGIN:VEVENT
UID:event-2026-12@coffee.bez.coffee
DTSTAMP:20260424T043228Z
DTSTART;VALUE=DATE:20260516
DTEND;VALUE=DATE:20260519
SUMMARY:Выставка кемперов Кюсю 2026
DESCRIPTION:### О выставке кемперов Кюсю 2026\n\nВыставка кемперов Кюсю — крупнейшая экспозиция автодомов на юго-западе Японии. Более 170 транспортных средств: новинки 2026 года\, подержанные кемперы\, компактные фургоны\, полноразмерные автодомы и прицепы.\n\n### Программа\n\nПомимо выставки\, работает международный фудкорт (тайская\, вьетнамская\, мексиканская\, американская и тайваньская кухни)\, детская зона с динозаврами и насекомыми\, а также прилавки с туристическим снаряжением.\n\n### Билеты\n\nВзрослые — ¥800 (предзаказ). Школьники и младше — бесплатно. Инвалиды и один сопровождающий — бесплатно.
LOCATION:Гранд Мессе Кумамото\, Кумамото\, JP
GEO:32.6450475;130.6341345
URL:https://jrva-event.com/event/kyushu2026/
STATUS:CONFIRMED
CATEGORIES:Exhibition,RV,Camping
END:VEVENT
END:VCALENDAR
