BEGIN:VCALENDAR
VERSION:2.0
PRODID:-//OpenVan.camp//Calendar//EN
CALSCALE:GREGORIAN
METHOD:PUBLISH
BEGIN:VEVENT
UID:south-west-motorhome-campervan-show-2026@coffee.bez.coffee
DTSTAMP:20260424T031812Z
DTSTART;VALUE=DATE:20260911
DTEND;VALUE=DATE:20260914
SUMMARY:Выставка автодомов и кемперов South West 2026
DESCRIPTION:The South West Motorhome and Campervan Show — это специализированное мероприятие для энтузиастов автодомов и кемперов. Оно проходит на выставочной площадке Bath & West Showground в Шептон-Маллет. На мероприятии представлено более 250 транспортных средств\, доступных для продажи. Посетители также могут посетить экспертные лекции\, большую выставку аксессуаров и бесплатные пробные занятия по маневрированию на автодоме. Программа включает живые кулинарные демонстрации\, оздоровительные занятия и развлечения для кемперов.
LOCATION:Bath & West Showground\, Шептон-Маллет\, GB
URL:https://outandaboutlive.co.uk/shows/south-west-motorhome-campervan-show
STATUS:CONFIRMED
CATEGORIES:Exhibition,RV,Camping
END:VEVENT
END:VCALENDAR
