BEGIN:VCALENDAR
VERSION:2.0
PRODID:-//OpenVan.camp//Calendar//EN
CALSCALE:GREGORIAN
METHOD:PUBLISH
BEGIN:VEVENT
UID:caravan-salon-duesseldorf-2026-2025@coffee.bez.coffee
DTSTAMP:20260424T031913Z
DTSTART;VALUE=DATE:20260828
DTEND;VALUE=DATE:20260907
SUMMARY:Caravan Salon Düsseldorf 2026
DESCRIPTION:Caravan Salon в Дюссельдорфе — крупнейшая в Европе выставка кемпинга. Она пройдёт с 29 августа по 7 сентября 2025 года\, с предпоказом 29 августа. На выставке представлены кемперы\, автодома и аксессуары. Посетители могут побродить по многочисленным павильонам и узнать о новинках. На территории одновременно будет организована крупнейшая в Европе стоянка для автодомов.
LOCATION:Дюссельдорф\, DE
STATUS:CONFIRMED
CATEGORIES:Exhibition,RV,Camping
END:VEVENT
END:VCALENDAR
