BEGIN:VCALENDAR
VERSION:2.0
PRODID:-//OpenVan.camp//Calendar//EN
CALSCALE:GREGORIAN
METHOD:PUBLISH
BEGIN:VEVENT
UID:getaway-show-2026@coffee.bez.coffee
DTSTAMP:20260424T044043Z
DTSTART;VALUE=DATE:20260925
DTEND;VALUE=DATE:20260928
SUMMARY:The Getaway Show 2026
DESCRIPTION:Выставка Getaway Show 2026 возвращается в P&J Live в Абердине с 25 по 27 сентября. Это первая возможность в Шотландии увидеть и сравнить новейшие автодома\, караваны и снаряжение для активного отдыха на свежем воздухе\, только что представленные в августе. Обязательная к посещению выставка для любого энтузиаста путешествий.
LOCATION:P&J Live\, Абердин\, GB
GEO:57.1856355;-2.1941356
URL:https://www.thegetawayshow.com
STATUS:CONFIRMED
CATEGORIES:Exhibition,RV,Camping
END:VEVENT
END:VCALENDAR
